BEGIN:VCALENDAR
VERSION:2.0
PRODID:nettz.ha.stage.gooddev.de
BEGIN:VEVENT
UID:69e4cffc2f8a9
DTSTART:20230215T130000Z
SEQUENCE:0
TRANSP:OPAQUE
DTEND:20230215T143000Z
LOCATION:DIGITAL
SUMMARY:NETTZ.Gespräch 
CLASS:PUBLIC
DESCRIPTION:&lt\;p&gt\;&lt\;strong&gt\;NETTZ.Gespräch I&amp\;nbsp\;#Mobili
 sierungsmaschine Telegram&lt\;/strong&gt\;&lt\;br&gt\;&lt\;br&gt\;\n&lt\;b
 r&gt\;&lt\;br&gt\;\nWelche Proteste sind heute noch ohne eine Online-Mobil
 isierung denkbar? Sicher nicht viele.&lt\;br&gt\;&lt\;br&gt\;&lt\;/p&gt\;
DTSTAMP:20260419T125212Z
END:VEVENT
BEGIN:VEVENT
UID:69e4cffc2f8fa
DTSTART:20230216T130000Z
SEQUENCE:0
TRANSP:OPAQUE
DTEND:20230216T143000Z
LOCATION:DIGITAL
SUMMARY:NETTZ.Gespräch 
CLASS:PUBLIC
DESCRIPTION:&lt\;p&gt\;&lt\;strong&gt\;NETTZ.Gespräch I&amp\;nbsp\;#Mobili
 sierungsmaschine Telegram&lt\;/strong&gt\;&lt\;br&gt\;&lt\;br&gt\;\n&lt\;b
 r&gt\;&lt\;br&gt\;\nWelche Proteste sind heute noch ohne eine Online-Mobil
 isierung denkbar? Sicher nicht viele.&lt\;br&gt\;&lt\;br&gt\;&lt\;/p&gt\;
DTSTAMP:20260419T125212Z
END:VEVENT
END:VCALENDAR