BEGIN:VCALENDAR
VERSION:2.0
PRODID:nettz.ha.stage.gooddev.de
BEGIN:VEVENT
UID:69e9d87dac3c1
DTSTART:20220510T110000Z
SEQUENCE:0
TRANSP:OPAQUE
DTEND:20220510T123000Z
LOCATION:Online\, Anmeldelink
SUMMARY:NETTZ.Gespräche Vol. 3
CLASS:PUBLIC
DESCRIPTION:&lt\;p&gt\;Liebe NETTZ Community\,&lt\;/p&gt\;
DTSTAMP:20260423T082949Z
END:VEVENT
BEGIN:VEVENT
UID:69e9d87dac671
DTSTART:20220511T110000Z
SEQUENCE:0
TRANSP:OPAQUE
DTEND:20220511T123000Z
LOCATION:Online\, Anmeldelink
SUMMARY:NETTZ.Gespräche Vol. 3
CLASS:PUBLIC
DESCRIPTION:&lt\;p&gt\;Liebe NETTZ Community\,&lt\;/p&gt\;
DTSTAMP:20260423T082949Z
END:VEVENT
END:VCALENDAR