BEGIN:VCALENDAR
VERSION:2.0
PRODID:nettz.ha.stage.gooddev.de
BEGIN:VEVENT
UID:69e4c76cefdef
DTSTART;VALUE=DATE:20220330
SEQUENCE:0
TRANSP:OPAQUE
DTEND;VALUE=DATE:20220331
LOCATION:zoom
SUMMARY:NETTZ.Gespräche Vol. 2
CLASS:PUBLIC
DESCRIPTION:&lt\;p&gt\;Desinformation ist ein weit verbreitetes\, komplexes
  und gefährliches Phänomen unserer Zeit. Dabei ist Desinformation nichts
  Neues\, jedoch wird sie im digitalen Raum dank technologischer Strukturen
  und Innovationen allgegenwärtiger.&lt\;/p&gt\;
X-MICROSOFT-CDO-ALLDAYEVENT:TRUE
DTSTAMP:20260419T121540Z
END:VEVENT
END:VCALENDAR