BEGIN:VCALENDAR
VERSION:2.0
PRODID:nettz.ha.stage.gooddev.de
BEGIN:VEVENT
UID:69e4c777ce636
DTSTART;VALUE=DATE:20220321
SEQUENCE:0
TRANSP:OPAQUE
DTEND;VALUE=DATE:20220322
LOCATION:zoom
SUMMARY:NETTZ.Gespräche Spezial
CLASS:PUBLIC
DESCRIPTION:&lt\;p&gt\;Im Kontext des Kriegs in der Ukraine zeichneten sich
  bereits früh weitreichende Folgen für die politische Stimmung hierzulan
 de ab. Wir haben uns gefragt: Welche Folgen hat der Krieg in der Ukraine f
 ür den deutschen Rechtsextremismus?&lt\;/p&gt\;
X-MICROSOFT-CDO-ALLDAYEVENT:TRUE
DTSTAMP:20260419T121551Z
END:VEVENT
END:VCALENDAR