BEGIN:VCALENDAR
VERSION:2.0
PRODID:nettz.ha.stage.gooddev.de
BEGIN:VEVENT
UID:69e4c81eb649e
DTSTART;VALUE=DATE:20220223
SEQUENCE:0
TRANSP:OPAQUE
DTEND;VALUE=DATE:20220224
LOCATION:Zoom
SUMMARY:NETTZ.Gespräche Vol. 1
CLASS:PUBLIC
DESCRIPTION:&lt\;p&gt\;Das erste NETTZ.Gespräch findet am Mittwoch\, den&a
 mp\;nbsp\;&lt\;strong&gt\;23. Februar&amp\;nbsp\;&lt\;/strong&gt\;von&amp\
 ;nbsp\;&lt\;strong&gt\;13 bis 14.30 Uhr&lt\;/strong&gt\;&amp\;nbsp\;auf&am
 p\;nbsp\;&lt\;strong&gt\;zoom&lt\;/strong&gt\;&amp\;nbsp\;statt.&lt\;/p&gt
 \;
X-MICROSOFT-CDO-ALLDAYEVENT:TRUE
DTSTAMP:20260419T121838Z
END:VEVENT
END:VCALENDAR