BEGIN:VCALENDAR
VERSION:2.0
PRODID:nettz.ha.stage.gooddev.de
BEGIN:VEVENT
UID:69e4ddebf0cff
DTSTART:20211214T130000Z
SEQUENCE:0
TRANSP:OPAQUE
DTEND:20211214T160000Z
LOCATION:bUm\, Paul-Lincke-Ufer 21\, 10999 Berlin
SUMMARY:Launch des Kompetenznetzwerks gegen Hass im Netz
CLASS:PUBLIC
DESCRIPTION:&lt\;p&gt\;Am 14.&lt\;/p&gt\;
DTSTAMP:20260419T135139Z
END:VEVENT
BEGIN:VEVENT
UID:69e4ddebf0d61
DTSTART:20211215T130000Z
SEQUENCE:0
TRANSP:OPAQUE
DTEND:20211215T160000Z
LOCATION:bUm\, Paul-Lincke-Ufer 21\, 10999 Berlin
SUMMARY:Launch des Kompetenznetzwerks gegen Hass im Netz
CLASS:PUBLIC
DESCRIPTION:&lt\;p&gt\;Am 14.&lt\;/p&gt\;
DTSTAMP:20260419T135139Z
END:VEVENT
END:VCALENDAR